BEGIN:VCALENDAR
VERSION:2.0
PRODID:-//time.you/holidays//NONSGML v1.0//EN
BEGIN:VEVENT
UID:2811d7e0-3aa2-4ceb-853c-99591d0ae88f
DTSTAMP:20260420T104618Z
DTSTART;VALUE=DATE:20260530
SUMMARY:San Gerardo di Potenza (Italy)
END:VEVENT
END:VCALENDAR