BEGIN:VCALENDAR
VERSION:2.0
PRODID:-//time.you/holidays//NONSGML v1.0//EN
BEGIN:VEVENT
UID:c9a4da2d-ac7d-4d79-a1dd-7cf144120e5b
DTSTAMP:20260422T111637Z
DTSTART;VALUE=DATE:20260225
SUMMARY:San Gerlando (Italy)
END:VEVENT
END:VCALENDAR