BEGIN:VCALENDAR
VERSION:2.0
PRODID:-//time.you/holidays//NONSGML v1.0//EN
BEGIN:VEVENT
UID:9039ee96-3d13-4a09-b78e-70fa244af9b9
DTSTAMP:20260424T023352Z
DTSTART;VALUE=DATE:20260619
SUMMARY:San Gervasio e San Protasio (Italy)
END:VEVENT
END:VCALENDAR