BEGIN:VCALENDAR
VERSION:2.0
PRODID:-//time.you/holidays//NONSGML v1.0//EN
BEGIN:VEVENT
UID:8f91b0a4-86cb-431f-b525-fc1232f65338
DTSTAMP:20260422T034854Z
DTSTART;VALUE=DATE:20260423
SUMMARY:San Giorgio (Italy)
END:VEVENT
END:VCALENDAR