BEGIN:VCALENDAR
VERSION:2.0
PRODID:-//time.you/holidays//NONSGML v1.0//EN
BEGIN:VEVENT
UID:96abdd6d-adef-43b4-9390-af412fd36335
DTSTAMP:20260421T223322Z
DTSTART;VALUE=DATE:20260831
SUMMARY:San Giuliano l'ospitaliere (Italy)
END:VEVENT
END:VCALENDAR