BEGIN:VCALENDAR
VERSION:2.0
PRODID:-//time.you/holidays//NONSGML v1.0//EN
BEGIN:VEVENT
UID:9a70899f-5dc5-443e-9024-4ac34a3c0f59
DTSTAMP:20260423T133726Z
DTSTART;VALUE=DATE:20260319
SUMMARY:San Giuseppe (Italy)
END:VEVENT
END:VCALENDAR