BEGIN:VCALENDAR
VERSION:2.0
PRODID:-//time.you/holidays//NONSGML v1.0//EN
BEGIN:VEVENT
UID:5659a1b4-937e-43cd-b583-99d3a351a5b6
DTSTAMP:20260421T194523Z
DTSTART;VALUE=DATE:20260511
SUMMARY:San Giustino di Chieti (Italy)
END:VEVENT
END:VCALENDAR