BEGIN:VCALENDAR
VERSION:2.0
PRODID:-//time.you/holidays//NONSGML v1.0//EN
BEGIN:VEVENT
UID:b66acf20-dd47-4ac7-8049-f6aaf8e5f122
DTSTAMP:20260423T215216Z
DTSTART;VALUE=DATE:20261103
SUMMARY:San Giusto (Italy)
END:VEVENT
END:VCALENDAR