BEGIN:VCALENDAR
VERSION:2.0
PRODID:-//time.you/holidays//NONSGML v1.0//EN
BEGIN:VEVENT
UID:fd39fec5-39b2-41aa-b88d-2270f7fee220
DTSTAMP:20260420T104600Z
DTSTART;VALUE=DATE:20260725
SUMMARY:San Jacopo (Italy)
END:VEVENT
END:VCALENDAR