BEGIN:VCALENDAR
VERSION:2.0
PRODID:-//time.you/holidays//NONSGML v1.0//EN
BEGIN:VEVENT
UID:a5407078-f5e7-4134-a5c2-9129ae93e8a1
DTSTAMP:20260420T080829Z
DTSTART;VALUE=DATE:20260906
SUMMARY:San Lorenzo da Brindisi (Italy)
END:VEVENT
END:VCALENDAR