BEGIN:VCALENDAR
VERSION:2.0
PRODID:-//time.you/holidays//NONSGML v1.0//EN
BEGIN:VEVENT
UID:86abfbc7-c4ce-42e6-bcfa-3db907bf8949
DTSTAMP:20260421T154232Z
DTSTART;VALUE=DATE:20260810
SUMMARY:San Lorenzo (Italy)
END:VEVENT
END:VCALENDAR