BEGIN:VCALENDAR
VERSION:2.0
PRODID:-//time.you/holidays//NONSGML v1.0//EN
BEGIN:VEVENT
UID:269361a1-a062-4588-b13c-efcd709a95ac
DTSTAMP:20260420T053434Z
DTSTART;VALUE=DATE:20261111
SUMMARY:San Martino (Italy)
END:VEVENT
END:VCALENDAR