BEGIN:VCALENDAR
VERSION:2.0
PRODID:-//time.you/holidays//NONSGML v1.0//EN
BEGIN:VEVENT
UID:b9662a6e-0cfa-4b2b-ab0e-5e943fe735e9
DTSTAMP:20260421T184858Z
DTSTART;VALUE=DATE:20261206
SUMMARY:San Nicola (Italy)
END:VEVENT
END:VCALENDAR