BEGIN:VCALENDAR
VERSION:2.0
PRODID:-//time.you/holidays//NONSGML v1.0//EN
BEGIN:VEVENT
UID:ff2a3030-d3d4-433f-b325-3183090fcb3d
DTSTAMP:20260421T235524Z
DTSTART;VALUE=DATE:20261124
SUMMARY:San Prospero Vescovo (Italy)
END:VEVENT
END:VCALENDAR