BEGIN:VCALENDAR
VERSION:2.0
PRODID:-//time.you/holidays//NONSGML v1.0//EN
BEGIN:VEVENT
UID:2033a82d-36b4-4245-97a7-7377c550e67e
DTSTAMP:20260423T154400Z
DTSTART;VALUE=DATE:20260617
SUMMARY:San Ranieri (Italy)
END:VEVENT
END:VCALENDAR