BEGIN:VCALENDAR
VERSION:2.0
PRODID:-//time.you/holidays//NONSGML v1.0//EN
BEGIN:VEVENT
UID:54540639-25c6-4c35-8c4e-85dcd60c49c7
DTSTAMP:20260422T051741Z
DTSTART;VALUE=DATE:20260920
SUMMARY:San Riccardo di Andria (Italy)
END:VEVENT
END:VCALENDAR