BEGIN:VCALENDAR
VERSION:2.0
PRODID:-//time.you/holidays//NONSGML v1.0//EN
BEGIN:VEVENT
UID:16fdf44b-0af7-4a15-99fa-b685d1075abe
DTSTAMP:20260420T101736Z
DTSTART;VALUE=DATE:20260505
SUMMARY:San Secondo di Asti (Italy)
END:VEVENT
END:VCALENDAR