BEGIN:VCALENDAR
VERSION:2.0
PRODID:-//time.you/holidays//NONSGML v1.0//EN
BEGIN:VEVENT
UID:96564c4d-6054-419b-910b-4ec3c7f920c1
DTSTAMP:20260421T020816Z
DTSTART;VALUE=DATE:20260620
SUMMARY:San Silverio (Italy)
END:VEVENT
END:VCALENDAR