BEGIN:VCALENDAR
VERSION:2.0
PRODID:-//time.you/holidays//NONSGML v1.0//EN
BEGIN:VEVENT
UID:77bd8393-b162-45d1-a806-8fb4d42c6893
DTSTAMP:20260421T020953Z
DTSTART;VALUE=DATE:20261209
SUMMARY:San Siro (Italy)
END:VEVENT
END:VCALENDAR