BEGIN:VCALENDAR
VERSION:2.0
PRODID:-//time.you/holidays//NONSGML v1.0//EN
BEGIN:VEVENT
UID:12b97d6b-620d-4037-be50-b45248f0a889
DTSTAMP:20260422T100533Z
DTSTART;VALUE=DATE:20260924
SUMMARY:San Terenzio di Pesaro (Italy)
END:VEVENT
END:VCALENDAR