BEGIN:VCALENDAR
VERSION:2.0
PRODID:-//time.you/holidays//NONSGML v1.0//EN
BEGIN:VEVENT
UID:f78f06dc-cf79-4192-8559-fb322732eaec
DTSTAMP:20260420T115731Z
DTSTART;VALUE=DATE:20260521
SUMMARY:San Zeno (Italy)
END:VEVENT
END:VCALENDAR