BEGIN:VCALENDAR
VERSION:2.0
PRODID:-//time.you/holidays//NONSGML v1.0//EN
BEGIN:VEVENT
UID:3acd9a57-7a72-4759-b956-ee311a8ce5dc
DTSTAMP:20260420T132433Z
DTSTART;VALUE=DATE:20261204
SUMMARY:Santa Barbara (Italy)
END:VEVENT
END:VCALENDAR