BEGIN:VCALENDAR
VERSION:2.0
PRODID:-//time.you/holidays//NONSGML v1.0//EN
BEGIN:VEVENT
UID:b019f3db-5687-468b-8ca3-7b0466b873e8
DTSTAMP:20260421T130730Z
DTSTART;VALUE=DATE:20261213
SUMMARY:Santa Lucia (Italy)
END:VEVENT
END:VCALENDAR