BEGIN:VCALENDAR
VERSION:2.0
PRODID:-//time.you/holidays//NONSGML v1.0//EN
BEGIN:VEVENT
UID:86d0a3ac-7d59-44d7-b4ae-bbea182ac691
DTSTAMP:20260422T052949Z
DTSTART;VALUE=DATE:20260715
SUMMARY:Santa Rosalia (Italy)
END:VEVENT
END:VCALENDAR