BEGIN:VCALENDAR
VERSION:2.0
PRODID:-//time.you/holidays//NONSGML v1.0//EN
BEGIN:VEVENT
UID:b096eb87-6b18-40c4-83be-8d7bb547ba43
DTSTAMP:20260422T053740Z
DTSTART;VALUE=DATE:20260807
SUMMARY:Sant'Alberto degli Abati (Italy)
END:VEVENT
END:VCALENDAR