BEGIN:VCALENDAR
VERSION:2.0
PRODID:-//time.you/holidays//NONSGML v1.0//EN
BEGIN:VEVENT
UID:9fcb8032-2f27-439b-8eb7-e265894dd6f3
DTSTAMP:20260423T185627Z
DTSTART;VALUE=DATE:20260826
SUMMARY:Sant'Alessandro di Bergamo (Italy)
END:VEVENT
END:VCALENDAR