BEGIN:VCALENDAR
VERSION:2.0
PRODID:-//time.you/holidays//NONSGML v1.0//EN
BEGIN:VEVENT
UID:24a1ad43-7e1a-4087-8bff-c0e8ecada279
DTSTAMP:20260423T171145Z
DTSTART;VALUE=DATE:20261207
SUMMARY:Sant'Ambrogio (Italy)
END:VEVENT
END:VCALENDAR