BEGIN:VCALENDAR
VERSION:2.0
PRODID:-//time.you/holidays//NONSGML v1.0//EN
BEGIN:VEVENT
UID:cfb8c3ad-b7da-4b4e-b536-44141765b955
DTSTAMP:20260420T042351Z
DTSTART;VALUE=DATE:20261201
SUMMARY:Sant'Ansano (Italy)
END:VEVENT
END:VCALENDAR