BEGIN:VCALENDAR
VERSION:2.0
PRODID:-//time.you/holidays//NONSGML v1.0//EN
BEGIN:VEVENT
UID:1221d9a4-e875-4751-a62d-957fefc51b77
DTSTAMP:20260421T123739Z
DTSTART;VALUE=DATE:20260318
SUMMARY:Sant'Anselmo da Baggio (Italy)
END:VEVENT
END:VCALENDAR