BEGIN:VCALENDAR
VERSION:2.0
PRODID:-//time.you/holidays//NONSGML v1.0//EN
BEGIN:VEVENT
UID:842e6183-222d-4b7b-929f-782c98122c10
DTSTAMP:20260422T000530Z
DTSTART;VALUE=DATE:20260704
SUMMARY:Sant'Antonino di Piacenza (Italy)
END:VEVENT
END:VCALENDAR