BEGIN:VCALENDAR
VERSION:2.0
PRODID:-//time.you/holidays//NONSGML v1.0//EN
BEGIN:VEVENT
UID:56245260-974e-49e4-85cc-98a64e7566c1
DTSTAMP:20260422T070656Z
DTSTART;VALUE=DATE:20260613
SUMMARY:Sant'Antonio di Padova (Italy)
END:VEVENT
END:VCALENDAR