BEGIN:VCALENDAR
VERSION:2.0
PRODID:-//time.you/holidays//NONSGML v1.0//EN
BEGIN:VEVENT
UID:885ae649-e092-4134-9980-73998ef7169e
DTSTAMP:20260421T122119Z
DTSTART;VALUE=DATE:20260213
SUMMARY:Sant'Archelao (Italy)
END:VEVENT
END:VCALENDAR