BEGIN:VCALENDAR
VERSION:2.0
PRODID:-//time.you/holidays//NONSGML v1.0//EN
BEGIN:VEVENT
UID:0a8ecc97-9afa-4003-bd7a-11157d486bc9
DTSTAMP:20260420T165214Z
DTSTART;VALUE=DATE:20260801
SUMMARY:Sant'Eusebio di Vercelli (Italy)
END:VEVENT
END:VCALENDAR