BEGIN:VCALENDAR
VERSION:2.0
PRODID:-//time.you/holidays//NONSGML v1.0//EN
BEGIN:VEVENT
UID:ea9e3b72-2544-4c3b-a8ca-d88d8f916909
DTSTAMP:20260425T025644Z
DTSTART;VALUE=DATE:20260215
SUMMARY:Santi Faustino e Giovita (Italy)
END:VEVENT
END:VCALENDAR