BEGIN:VCALENDAR
VERSION:2.0
PRODID:-//time.you/holidays//NONSGML v1.0//EN
BEGIN:VEVENT
UID:5471c7b7-1558-47f9-9a70-caf39e9e8d3d
DTSTAMP:20260420T065620Z
DTSTART;VALUE=DATE:20260629
SUMMARY:Santi Pietro e Paolo (Italy)
END:VEVENT
END:VCALENDAR