BEGIN:VCALENDAR
VERSION:2.0
PRODID:-//time.you/holidays//NONSGML v1.0//EN
BEGIN:VEVENT
UID:1966d404-a0e6-4a1b-8021-9c5a9396a683
DTSTAMP:20260420T104644Z
DTSTART;VALUE=DATE:20260113
SUMMARY:Sant'Ilario di Poitiers (Italy)
END:VEVENT
END:VCALENDAR