BEGIN:VCALENDAR
VERSION:2.0
PRODID:-//time.you/holidays//NONSGML v1.0//EN
BEGIN:VEVENT
UID:8da042fb-f6e1-4ba8-bd0d-b3aec7dea5a2
DTSTAMP:20260420T104519Z
DTSTART;VALUE=DATE:20261226
SUMMARY:Santo Stefano (Italy)
END:VEVENT
END:VCALENDAR