BEGIN:VCALENDAR
VERSION:2.0
PRODID:-//time.you/holidays//NONSGML v1.0//EN
BEGIN:VEVENT
UID:1301f900-6f46-4411-b833-98fd0abaaddd
DTSTAMP:20260423T092259Z
DTSTART;VALUE=DATE:20261113
SUMMARY:Sant'Omobono (Italy)
END:VEVENT
END:VCALENDAR