BEGIN:VCALENDAR
VERSION:2.0
PRODID:-//time.you/holidays//NONSGML v1.0//EN
BEGIN:VEVENT
UID:fc58333e-5662-40f6-a561-468c33e5fe5a
DTSTAMP:20260420T011218Z
DTSTART;VALUE=DATE:20260826
SUMMARY:Sant'Oronzo (Italy)
END:VEVENT
END:VCALENDAR