BEGIN:VCALENDAR
VERSION:2.0
PRODID:-//time.you/holidays//NONSGML v1.0//EN
BEGIN:VEVENT
UID:d180f17c-d7d9-4eb9-87e0-3627763ba7ec
DTSTAMP:20260422T070611Z
DTSTART;VALUE=DATE:20261101
SUMMARY:Tutti i Santi (Italy)
END:VEVENT
END:VCALENDAR