BEGIN:VCALENDAR
VERSION:2.0
PRODID:-//time.you/holidays//NONSGML v1.0//EN
BEGIN:VEVENT
UID:0798254e-19f5-4fb8-a31c-1e097d2c738a
DTSTAMP:20260421T125758Z
DTSTART;VALUE=DATE:20260218
SUMMARY:Ash Wednesday (Jamaica)
END:VEVENT
END:VCALENDAR