BEGIN:VCALENDAR
VERSION:2.0
PRODID:-//time.you/holidays//NONSGML v1.0//EN
BEGIN:VEVENT
UID:c59a982e-4f59-4cd7-a793-4695bea4b58b
DTSTAMP:20260425T084419Z
DTSTART;VALUE=DATE:20271227
SUMMARY:Boxing Day (observed) (Jamaica)
END:VEVENT
END:VCALENDAR