BEGIN:VCALENDAR
VERSION:2.0
PRODID:-//time.you/holidays//NONSGML v1.0//EN
BEGIN:VEVENT
UID:0f627a47-aa17-4fb5-a9af-fa5eb53545a2
DTSTAMP:20260422T051751Z
DTSTART;VALUE=DATE:20331227
SUMMARY:Christmas Day (observed) (Jamaica)
END:VEVENT
END:VCALENDAR