BEGIN:VCALENDAR
VERSION:2.0
PRODID:-//time.you/holidays//NONSGML v1.0//EN
BEGIN:VEVENT
UID:11ddabd9-8526-4709-9a65-68a2683d244b
DTSTAMP:20260420T212236Z
DTSTART;VALUE=DATE:20260406
SUMMARY:Easter Monday (Jamaica)
END:VEVENT
END:VCALENDAR