BEGIN:VCALENDAR
VERSION:2.0
PRODID:-//time.you/holidays//NONSGML v1.0//EN
BEGIN:VEVENT
UID:eb3dd6d6-9131-45c4-b6c5-8fdee24dd3d6
DTSTAMP:20260420T125624Z
DTSTART;VALUE=DATE:20260801
SUMMARY:Emancipation Day (Jamaica)
END:VEVENT
END:VCALENDAR