BEGIN:VCALENDAR
VERSION:2.0
PRODID:-//time.you/holidays//NONSGML v1.0//EN
BEGIN:VEVENT
UID:475c8658-306d-4cd0-bbd5-4b2fa16b57a8
DTSTAMP:20260420T132247Z
DTSTART;VALUE=DATE:20260806
SUMMARY:Independence Day (Jamaica)
END:VEVENT
END:VCALENDAR