BEGIN:VCALENDAR
VERSION:2.0
PRODID:-//time.you/holidays//NONSGML v1.0//EN
BEGIN:VEVENT
UID:ee96b2d1-9caa-466e-b3ec-b2efcb83f3b7
DTSTAMP:20260420T012555Z
DTSTART;VALUE=DATE:20261019
SUMMARY:National Heroes Day (Jamaica)
END:VEVENT
END:VCALENDAR