BEGIN:VCALENDAR
VERSION:2.0
PRODID:-//time.you/holidays//NONSGML v1.0//EN
BEGIN:VEVENT
UID:93108ca6-728d-44c2-8e1f-bf99c0805aad
DTSTAMP:20260423T185532Z
DTSTART;VALUE=DATE:20340102
SUMMARY:New Year's Day (observed) (Jamaica)
END:VEVENT
END:VCALENDAR