BEGIN:VCALENDAR
VERSION:2.0
PRODID:-//time.you/holidays//NONSGML v1.0//EN
BEGIN:VEVENT
UID:2784740d-0dda-446b-a5c3-7e7e19f76bcd
DTSTAMP:20260421T223834Z
DTSTART;VALUE=DATE:20260112
SUMMARY:Coming of Age Day (Japan)
END:VEVENT
END:VCALENDAR