BEGIN:VCALENDAR
VERSION:2.0
PRODID:-//time.you/holidays//NONSGML v1.0//EN
BEGIN:VEVENT
UID:3a23290f-2206-498d-be7d-144fe4aa31e0
DTSTAMP:20260423T171846Z
DTSTART;VALUE=DATE:20260223
SUMMARY:Emperor's Birthday (Japan)
END:VEVENT
END:VCALENDAR